Package: CEMiTool Version: 1.26.1 Command: F:\biocbuild\bbs-3.18-bioc\R\bin\R.exe CMD INSTALL CEMiTool StartedAt: 2024-04-15 16:25:38 -0400 (Mon, 15 Apr 2024) EndedAt: 2024-04-15 16:26:24 -0400 (Mon, 15 Apr 2024) EllapsedTime: 45.4 seconds RetCode: 0 Status: OK