Package: CEMiTool Version: 1.26.1 Command: rm -rf CEMiTool.buildbin-libdir && mkdir CEMiTool.buildbin-libdir && F:\biocbuild\bbs-3.18-bioc\R\bin\R.exe CMD INSTALL --build --library=CEMiTool.buildbin-libdir CEMiTool_1.26.1.tar.gz StartedAt: 2024-04-16 06:46:50 -0400 (Tue, 16 Apr 2024) EndedAt: 2024-04-16 06:47:38 -0400 (Tue, 16 Apr 2024) EllapsedTime: 48.1 seconds RetCode: 0 Status: OK PackageFile: CEMiTool_1.26.1.zip PackageFileSize: 5.071 MiB