Package: CEMiTool Version: 1.26.1 Command: /home/biocbuild/bbs-3.18-bioc/R/bin/R CMD build --keep-empty-dirs --no-resave-data CEMiTool StartedAt: 2024-04-15 16:23:28 -0400 (Mon, 15 Apr 2024) EndedAt: 2024-04-15 16:25:02 -0400 (Mon, 15 Apr 2024) EllapsedTime: 94.1 seconds RetCode: 0 Status: OK PackageFile: CEMiTool_1.26.1.tar.gz PackageFileSize: 5.452 MiB