Package: CEMiTool Version: 1.26.1 Command: /Library/Frameworks/R.framework/Resources/bin/R CMD INSTALL CEMiTool StartedAt: 2024-04-15 16:12:03 -0400 (Mon, 15 Apr 2024) EndedAt: 2024-04-15 16:13:08 -0400 (Mon, 15 Apr 2024) EllapsedTime: 64.4 seconds RetCode: 0 Status: OK