Package: CEMiTool Version: 1.26.1 Command: rm -rf CEMiTool.buildbin-libdir && mkdir CEMiTool.buildbin-libdir && /Users/biocbuild/BBS/utils/build-universal.sh CEMiTool_1.26.1.tar.gz /Library/Frameworks/R.framework/Resources/bin/R CEMiTool.buildbin-libdir StartedAt: 2024-04-16 11:12:55 -0400 (Tue, 16 Apr 2024) EndedAt: 2024-04-16 11:14:44 -0400 (Tue, 16 Apr 2024) EllapsedTime: 108.9 seconds RetCode: 0 Status: OK PackageFile: CEMiTool_1.26.1.tgz PackageFileSize: 6.13 MiB