Package: CEMiTool Version: 1.26.0 Command: /Library/Frameworks/R.framework/Resources/bin/R CMD INSTALL CEMiTool StartedAt: 2024-03-03 15:33:56 -0500 (Sun, 03 Mar 2024) EndedAt: 2024-03-03 15:34:37 -0500 (Sun, 03 Mar 2024) EllapsedTime: 41.2 seconds RetCode: 0 Status: OK