Package: CDI Version: 1.0.2 Command: chmod a+r CDI -R && F:\biocbuild\bbs-3.18-bioc\R\bin\R.exe CMD build --keep-empty-dirs --no-resave-data CDI StartedAt: 2024-04-15 17:28:03 -0400 (Mon, 15 Apr 2024) EndedAt: 2024-04-15 17:41:08 -0400 (Mon, 15 Apr 2024) EllapsedTime: 784.7 seconds RetCode: 0 Status: OK PackageFile: CDI_1.0.2.tar.gz PackageFileSize: 1.812 MiB