Package: CDI Version: 1.0.2 Command: /home/biocbuild/bbs-3.18-bioc/R/bin/R CMD check --install=check:CDI.install-out.txt --library=/home/biocbuild/bbs-3.18-bioc/R/site-library --timings CDI_1.0.2.tar.gz StartedAt: 2024-04-15 20:57:40 -0400 (Mon, 15 Apr 2024) EndedAt: 2024-04-15 21:17:08 -0400 (Mon, 15 Apr 2024) EllapsedTime: 1168.5 seconds RetCode: 0 Status: OK CheckDir: CDI.Rcheck Warnings: 0