Package: CDI Version: 1.0.2 Command: /home/biocbuild/bbs-3.18-bioc/R/bin/R CMD build --keep-empty-dirs --no-resave-data CDI StartedAt: 2024-04-15 16:20:56 -0400 (Mon, 15 Apr 2024) EndedAt: 2024-04-15 16:28:58 -0400 (Mon, 15 Apr 2024) EllapsedTime: 481.6 seconds RetCode: 0 Status: OK PackageFile: CDI_1.0.2.tar.gz PackageFileSize: 2.014 MiB