Package: CDI Version: 1.0.2 Command: /Library/Frameworks/R.framework/Resources/bin/R CMD check --install=check:CDI.install-out.txt --library=/Library/Frameworks/R.framework/Resources/library --no-vignettes --timings CDI_1.0.2.tar.gz StartedAt: 2024-04-16 00:24:30 -0400 (Tue, 16 Apr 2024) EndedAt: 2024-04-16 00:33:41 -0400 (Tue, 16 Apr 2024) EllapsedTime: 550.9 seconds RetCode: 0 Status: OK CheckDir: CDI.Rcheck Warnings: 0