Package: CDI Version: 1.0.2 Command: /Library/Frameworks/R.framework/Resources/bin/R CMD INSTALL CDI StartedAt: 2024-03-03 15:41:27 -0500 (Sun, 03 Mar 2024) EndedAt: 2024-03-03 15:42:22 -0500 (Sun, 03 Mar 2024) EllapsedTime: 54.3 seconds RetCode: 0 Status: OK