Package: CDI Version: 1.0.2 Command: rm -rf CDI.buildbin-libdir && mkdir CDI.buildbin-libdir && /Users/biocbuild/BBS/utils/build-universal.sh CDI_1.0.2.tar.gz /Library/Frameworks/R.framework/Resources/bin/R CDI.buildbin-libdir StartedAt: 2024-03-04 00:32:45 -0500 (Mon, 04 Mar 2024) EndedAt: 2024-03-04 00:33:39 -0500 (Mon, 04 Mar 2024) EllapsedTime: 53.5 seconds RetCode: 0 Status: OK PackageFile: CDI_1.0.2.tgz PackageFileSize: 2.064 MiB