Package: CCPlotR Version: 1.0.0 Command: /Library/Frameworks/R.framework/Resources/bin/R CMD build --keep-empty-dirs --no-resave-data CCPlotR StartedAt: 2024-04-15 17:29:53 -0400 (Mon, 15 Apr 2024) EndedAt: 2024-04-15 17:31:03 -0400 (Mon, 15 Apr 2024) EllapsedTime: 70.1 seconds RetCode: 0 Status: OK PackageFile: CCPlotR_1.0.0.tar.gz PackageFileSize: 4.889 MiB