Package: CCPlotR Version: 1.0.0 Command: rm -rf CCPlotR.buildbin-libdir && mkdir CCPlotR.buildbin-libdir && /Users/biocbuild/BBS/utils/build-universal.sh CCPlotR_1.0.0.tar.gz /Library/Frameworks/R.framework/Resources/bin/R CCPlotR.buildbin-libdir StartedAt: 2024-04-16 11:11:24 -0400 (Tue, 16 Apr 2024) EndedAt: 2024-04-16 11:12:01 -0400 (Tue, 16 Apr 2024) EllapsedTime: 37.2 seconds RetCode: 0 Status: OK PackageFile: CCPlotR_1.0.0.tgz PackageFileSize: 2.701 MiB