Package: CCPROMISE Version: 1.28.0 Command: F:\biocbuild\bbs-3.18-bioc\R\bin\R.exe CMD check --no-multiarch --install=check:CCPROMISE.install-out.txt --library=F:\biocbuild\bbs-3.18-bioc\R\library --no-vignettes --timings CCPROMISE_1.28.0.tar.gz StartedAt: 2024-04-15 23:05:20 -0400 (Mon, 15 Apr 2024) EndedAt: 2024-04-15 23:08:26 -0400 (Mon, 15 Apr 2024) EllapsedTime: 185.5 seconds RetCode: 0 Status: WARNINGS CheckDir: CCPROMISE.Rcheck Warnings: 1