Package: CCPROMISE Version: 1.28.0 Command: rm -rf CCPROMISE.buildbin-libdir && mkdir CCPROMISE.buildbin-libdir && F:\biocbuild\bbs-3.18-bioc\R\bin\R.exe CMD INSTALL --build --library=CCPROMISE.buildbin-libdir CCPROMISE_1.28.0.tar.gz StartedAt: 2024-04-16 06:46:12 -0400 (Tue, 16 Apr 2024) EndedAt: 2024-04-16 06:46:45 -0400 (Tue, 16 Apr 2024) EllapsedTime: 32.4 seconds RetCode: 0 Status: OK PackageFile: CCPROMISE_1.28.0.zip PackageFileSize: 1.083 MiB