Package: CATALYST Version: 1.26.1 Command: /Library/Frameworks/R.framework/Resources/bin/R CMD build --keep-empty-dirs --no-resave-data CATALYST StartedAt: 2024-04-15 17:28:33 -0400 (Mon, 15 Apr 2024) EndedAt: 2024-04-15 17:35:27 -0400 (Mon, 15 Apr 2024) EllapsedTime: 413.8 seconds RetCode: 0 Status: OK PackageFile: CATALYST_1.26.1.tar.gz PackageFileSize: 12.04 MiB