Package: CATALYST Version: 1.26.1 Command: rm -rf CATALYST.buildbin-libdir && mkdir CATALYST.buildbin-libdir && /Users/biocbuild/BBS/utils/build-universal.sh CATALYST_1.26.1.tar.gz /Library/Frameworks/R.framework/Resources/bin/R CATALYST.buildbin-libdir StartedAt: 2024-04-16 11:10:06 -0400 (Tue, 16 Apr 2024) EndedAt: 2024-04-16 11:12:12 -0400 (Tue, 16 Apr 2024) EllapsedTime: 126.0 seconds RetCode: 0 Status: OK PackageFile: CATALYST_1.26.1.tgz PackageFileSize: 12.86 MiB