Package: CAMERA Version: 1.58.0 Command: chmod a+r CAMERA -R && F:\biocbuild\bbs-3.18-bioc\R\bin\R.exe CMD build --keep-empty-dirs --no-resave-data CAMERA StartedAt: 2024-04-15 17:24:29 -0400 (Mon, 15 Apr 2024) EndedAt: 2024-04-15 17:26:38 -0400 (Mon, 15 Apr 2024) EllapsedTime: 129.5 seconds RetCode: 0 Status: OK PackageFile: CAMERA_1.58.0.tar.gz PackageFileSize: 2.097 MiB