Package: CAMERA Version: 1.58.0 Command: /Library/Frameworks/R.framework/Resources/bin/R CMD INSTALL CAMERA StartedAt: 2024-03-03 15:37:11 -0500 (Sun, 03 Mar 2024) EndedAt: 2024-03-03 15:38:23 -0500 (Sun, 03 Mar 2024) EllapsedTime: 72.5 seconds RetCode: 0 Status: OK