Package: CAGEfightR Version: 1.22.0 Command: chmod a+r CAGEfightR -R && F:\biocbuild\bbs-3.18-bioc\R\bin\R.exe CMD build --keep-empty-dirs --no-resave-data CAGEfightR StartedAt: 2024-04-15 17:23:59 -0400 (Mon, 15 Apr 2024) EndedAt: 2024-04-15 17:29:34 -0400 (Mon, 15 Apr 2024) EllapsedTime: 335.5 seconds RetCode: 0 Status: OK PackageFile: CAGEfightR_1.22.0.tar.gz PackageFileSize: 1.568 MiB