Package: CAGEfightR Version: 1.22.0 Command: /home/biocbuild/R/R-4.3.1/bin/R CMD build --keep-empty-dirs --no-resave-data CAGEfightR StartedAt: 2023-11-01 22:57:54 -0000 (Wed, 01 Nov 2023) EndedAt: 2023-11-01 23:02:18 -0000 (Wed, 01 Nov 2023) EllapsedTime: 263.3 seconds RetCode: 0 Status: OK PackageFile: CAGEfightR_1.22.0.tar.gz PackageFileSize: 1.707 MiB