Package: CAEN Version: 1.10.0 Command: chmod a+r CAEN -R && F:\biocbuild\bbs-3.18-bioc\R\bin\R.exe CMD build --keep-empty-dirs --no-resave-data CAEN StartedAt: 2024-04-15 17:23:47 -0400 (Mon, 15 Apr 2024) EndedAt: 2024-04-15 17:26:20 -0400 (Mon, 15 Apr 2024) EllapsedTime: 152.5 seconds RetCode: 0 Status: OK PackageFile: CAEN_1.10.0.tar.gz PackageFileSize: 988.5 KiB