Package: CAEN Version: 1.10.0 Command: /home/biocbuild/bbs-3.18-bioc/R/bin/R CMD check --install=check:CAEN.install-out.txt --library=/home/biocbuild/bbs-3.18-bioc/R/site-library --timings CAEN_1.10.0.tar.gz StartedAt: 2024-04-15 20:49:08 -0400 (Mon, 15 Apr 2024) EndedAt: 2024-04-15 20:54:54 -0400 (Mon, 15 Apr 2024) EllapsedTime: 345.5 seconds RetCode: 0 Status: OK CheckDir: CAEN.Rcheck Warnings: 0