Package: BubbleTree Version: 2.32.0 Command: /Library/Frameworks/R.framework/Resources/bin/R CMD INSTALL BubbleTree StartedAt: 2024-04-15 15:51:30 -0400 (Mon, 15 Apr 2024) EndedAt: 2024-04-15 15:53:16 -0400 (Mon, 15 Apr 2024) EllapsedTime: 106.0 seconds RetCode: 0 Status: OK