Package: BubbleTree Version: 2.32.0 Command: /home/biocbuild/R/R-4.3.1/bin/R CMD INSTALL BubbleTree StartedAt: 2023-11-01 20:36:27 -0000 (Wed, 01 Nov 2023) EndedAt: 2023-11-01 20:37:38 -0000 (Wed, 01 Nov 2023) EllapsedTime: 70.2 seconds RetCode: 0 Status: OK