Package: BubbleTree Version: 2.32.0 Command: /home/biocbuild/R/R-4.3.1/bin/R CMD build --keep-empty-dirs --no-resave-data BubbleTree StartedAt: 2023-11-01 22:55:58 -0000 (Wed, 01 Nov 2023) EndedAt: 2023-11-01 22:59:29 -0000 (Wed, 01 Nov 2023) EllapsedTime: 211.3 seconds RetCode: 0 Status: OK PackageFile: BubbleTree_2.32.0.tar.gz PackageFileSize: 27.59 MiB