Package: BrowserViz Version: 2.24.0 Command: chmod a+r BrowserViz -R && F:\biocbuild\bbs-3.18-bioc\R\bin\R.exe CMD build --keep-empty-dirs --no-resave-data BrowserViz StartedAt: 2024-04-15 17:22:23 -0400 (Mon, 15 Apr 2024) EndedAt: 2024-04-15 17:22:37 -0400 (Mon, 15 Apr 2024) EllapsedTime: 14.0 seconds RetCode: 0 Status: OK PackageFile: BrowserViz_2.24.0.tar.gz PackageFileSize: 241.1 KiB