Package: BrowserViz Version: 2.24.0 Command: rm -rf BrowserViz.buildbin-libdir && mkdir BrowserViz.buildbin-libdir && F:\biocbuild\bbs-3.18-bioc\R\bin\R.exe CMD INSTALL --build --library=BrowserViz.buildbin-libdir BrowserViz_2.24.0.tar.gz StartedAt: 2024-04-16 06:44:18 -0400 (Tue, 16 Apr 2024) EndedAt: 2024-04-16 06:44:28 -0400 (Tue, 16 Apr 2024) EllapsedTime: 9.4 seconds RetCode: 0 Status: OK PackageFile: BrowserViz_2.24.0.zip PackageFileSize: 426 KiB