Package: BrowserViz Version: 2.24.0 Command: /Library/Frameworks/R.framework/Resources/bin/R CMD build --keep-empty-dirs --no-resave-data BrowserViz StartedAt: 2024-04-15 17:23:25 -0400 (Mon, 15 Apr 2024) EndedAt: 2024-04-15 17:23:39 -0400 (Mon, 15 Apr 2024) EllapsedTime: 14.2 seconds RetCode: 0 Status: OK PackageFile: BrowserViz_2.24.0.tar.gz PackageFileSize: 240.9 KiB