Package: BridgeDbR Version: 2.12.0 Command: F:\biocbuild\bbs-3.18-bioc\R\bin\R.exe CMD INSTALL BridgeDbR StartedAt: 2024-04-15 15:35:39 -0400 (Mon, 15 Apr 2024) EndedAt: 2024-04-15 15:35:56 -0400 (Mon, 15 Apr 2024) EllapsedTime: 16.8 seconds RetCode: 0 Status: OK