Package: BridgeDbR Version: 2.12.0 Command: rm -rf BridgeDbR.buildbin-libdir && mkdir BridgeDbR.buildbin-libdir && F:\biocbuild\bbs-3.18-bioc\R\bin\R.exe CMD INSTALL --build --library=BridgeDbR.buildbin-libdir BridgeDbR_2.12.0.tar.gz StartedAt: 2024-04-16 06:44:16 -0400 (Tue, 16 Apr 2024) EndedAt: 2024-04-16 06:44:24 -0400 (Tue, 16 Apr 2024) EllapsedTime: 7.4 seconds RetCode: 0 Status: OK PackageFile: BridgeDbR_2.12.0.zip PackageFileSize: 4.583 MiB