Package: BridgeDbR Version: 2.12.0 Command: rm -rf BridgeDbR.buildbin-libdir && mkdir BridgeDbR.buildbin-libdir && /Users/biocbuild/BBS/utils/build-universal.sh BridgeDbR_2.12.0.tar.gz /Library/Frameworks/R.framework/Resources/bin/R BridgeDbR.buildbin-libdir StartedAt: 2024-03-04 00:31:49 -0500 (Mon, 04 Mar 2024) EndedAt: 2024-03-04 00:31:56 -0500 (Mon, 04 Mar 2024) EllapsedTime: 6.8 seconds RetCode: 0 Status: OK PackageFile: BridgeDbR_2.12.0.tgz PackageFileSize: 4.581 MiB