Package: BridgeDbR Version: 2.12.0 Maintainer: Egon Willighagen MaintainerEmail: egon.willighagen at gmail.com git_url: https://git.bioconductor.org/packages/BridgeDbR git_branch: RELEASE_3_18 git_last_commit: b2989b3 git_last_commit_date: 2023-10-24 10:39:59 -0400 (Tue, 24 Oct 2023)