Package: BloodGen3Module Version: 1.10.0 Command: rm -rf BloodGen3Module.buildbin-libdir && mkdir BloodGen3Module.buildbin-libdir && F:\biocbuild\bbs-3.18-bioc\R\bin\R.exe CMD INSTALL --build --library=BloodGen3Module.buildbin-libdir BloodGen3Module_1.10.0.tar.gz StartedAt: 2024-04-16 06:43:42 -0400 (Tue, 16 Apr 2024) EndedAt: 2024-04-16 06:44:22 -0400 (Tue, 16 Apr 2024) EllapsedTime: 39.8 seconds RetCode: 0 Status: OK PackageFile: BloodGen3Module_1.10.0.zip PackageFileSize: 244.8 KiB