Package: BloodGen3Module Version: 1.10.0 Command: /home/biocbuild/bbs-3.18-bioc/R/bin/R CMD check --install=check:BloodGen3Module.install-out.txt --library=/home/biocbuild/bbs-3.18-bioc/R/site-library --timings BloodGen3Module_1.10.0.tar.gz StartedAt: 2024-04-15 20:40:31 -0400 (Mon, 15 Apr 2024) EndedAt: 2024-04-15 20:50:22 -0400 (Mon, 15 Apr 2024) EllapsedTime: 590.2 seconds RetCode: 0 Status: WARNINGS CheckDir: BloodGen3Module.Rcheck Warnings: 1