Package: BloodGen3Module Version: 1.10.0 Command: /home/biocbuild/R/R-4.3.1/bin/R CMD check --install=check:BloodGen3Module.install-out.txt --library=/home/biocbuild/R/R-4.3.1/site-library --timings BloodGen3Module_1.10.0.tar.gz StartedAt: 2023-10-25 07:59:47 -0000 (Wed, 25 Oct 2023) EndedAt: 2023-10-25 08:14:04 -0000 (Wed, 25 Oct 2023) EllapsedTime: 857.4 seconds RetCode: 0 Status: WARNINGS CheckDir: BloodGen3Module.Rcheck Warnings: 1