Package: Biostrings Version: 2.70.3 Command: F:\biocbuild\bbs-3.18-bioc\R\bin\R.exe CMD check --no-multiarch --install=check:Biostrings.install-out.txt --library=F:\biocbuild\bbs-3.18-bioc\R\library --no-vignettes --timings Biostrings_2.70.3.tar.gz StartedAt: 2024-04-15 22:46:55 -0400 (Mon, 15 Apr 2024) EndedAt: 2024-04-15 22:57:14 -0400 (Mon, 15 Apr 2024) EllapsedTime: 619.1 seconds RetCode: 0 Status: WARNINGS CheckDir: Biostrings.Rcheck Warnings: 2