Package: Biostrings Version: 2.70.3 Command: chmod a+r Biostrings -R && F:\biocbuild\bbs-3.18-bioc\R\bin\R.exe CMD build --keep-empty-dirs --no-resave-data Biostrings StartedAt: 2024-04-15 17:17:22 -0400 (Mon, 15 Apr 2024) EndedAt: 2024-04-15 17:21:53 -0400 (Mon, 15 Apr 2024) EllapsedTime: 270.7 seconds RetCode: 0 Status: OK PackageFile: Biostrings_2.70.3.tar.gz PackageFileSize: 12.01 MiB