Package: Biostrings Version: 2.70.3 Command: rm -rf Biostrings.buildbin-libdir && mkdir Biostrings.buildbin-libdir && F:\biocbuild\bbs-3.18-bioc\R\bin\R.exe CMD INSTALL --build --library=Biostrings.buildbin-libdir Biostrings_2.70.3.tar.gz StartedAt: 2024-04-16 06:43:19 -0400 (Tue, 16 Apr 2024) EndedAt: 2024-04-16 06:44:38 -0400 (Tue, 16 Apr 2024) EllapsedTime: 78.8 seconds RetCode: 0 Status: OK PackageFile: Biostrings_2.70.3.zip PackageFileSize: 13.44 MiB