Package: Biostrings Version: 2.70.3 Command: /Library/Frameworks/R.framework/Resources/bin/R CMD check --install=check:Biostrings.install-out.txt --library=/Library/Frameworks/R.framework/Resources/library --no-vignettes --timings Biostrings_2.70.3.tar.gz StartedAt: 2024-04-15 23:59:24 -0400 (Mon, 15 Apr 2024) EndedAt: 2024-04-16 00:15:16 -0400 (Tue, 16 Apr 2024) EllapsedTime: 952.6 seconds RetCode: 0 Status: WARNINGS CheckDir: Biostrings.Rcheck Warnings: 1