Package: Biostrings Version: 2.70.1 Command: /home/biocbuild/R/R-4.3.1/bin/R CMD build --keep-empty-dirs --no-resave-data Biostrings StartedAt: 2023-11-01 22:45:50 -0000 (Wed, 01 Nov 2023) EndedAt: 2023-11-01 22:47:59 -0000 (Wed, 01 Nov 2023) EllapsedTime: 128.2 seconds RetCode: 0 Status: OK PackageFile: Biostrings_2.70.1.tar.gz PackageFileSize: 12.34 MiB