Package: BiocWorkflowTools Version: 1.28.0 Command: /Library/Frameworks/R.framework/Resources/bin/R CMD INSTALL BiocWorkflowTools StartedAt: 2024-04-15 15:52:18 -0400 (Mon, 15 Apr 2024) EndedAt: 2024-04-15 15:52:26 -0400 (Mon, 15 Apr 2024) EllapsedTime: 7.7 seconds RetCode: 0 Status: OK