Package: BiocWorkflowTools Version: 1.28.0 Command: /Library/Frameworks/R.framework/Resources/bin/R CMD INSTALL BiocWorkflowTools StartedAt: 2024-03-03 15:25:38 -0500 (Sun, 03 Mar 2024) EndedAt: 2024-03-03 15:25:41 -0500 (Sun, 03 Mar 2024) EllapsedTime: 2.6 seconds RetCode: 1 Status: ERROR