Package: BiocWorkflowTools Version: 1.28.0 Command: /Library/Frameworks/R.framework/Resources/bin/R CMD check --install=check:BiocWorkflowTools.install-out.txt --library=/Library/Frameworks/R.framework/Resources/library --no-vignettes --timings BiocWorkflowTools_1.28.0.tar.gz StartedAt: 2023-11-28 19:14:09 -0500 (Tue, 28 Nov 2023) EndedAt: 2023-11-28 19:14:43 -0500 (Tue, 28 Nov 2023) EllapsedTime: 33.8 seconds RetCode: 0 Status: OK CheckDir: BiocWorkflowTools.Rcheck Warnings: 0