Package: BiocVersion Version: 3.18.1 Command: F:\biocbuild\bbs-3.18-bioc\R\bin\R.exe CMD check --no-multiarch --install=check:BiocVersion.install-out.txt --library=F:\biocbuild\bbs-3.18-bioc\R\library --no-vignettes --timings BiocVersion_3.18.1.tar.gz StartedAt: 2024-04-15 22:42:42 -0400 (Mon, 15 Apr 2024) EndedAt: 2024-04-15 22:42:59 -0400 (Mon, 15 Apr 2024) EllapsedTime: 17.0 seconds RetCode: 0 Status: OK CheckDir: BiocVersion.Rcheck Warnings: 0