Package: BiocVersion Version: 3.18.1 Command: /Library/Frameworks/R.framework/Resources/bin/R CMD check --install=check:BiocVersion.install-out.txt --library=/Library/Frameworks/R.framework/Resources/library --no-vignettes --timings BiocVersion_3.18.1.tar.gz StartedAt: 2024-04-15 23:53:10 -0400 (Mon, 15 Apr 2024) EndedAt: 2024-04-15 23:53:36 -0400 (Mon, 15 Apr 2024) EllapsedTime: 25.3 seconds RetCode: 0 Status: OK CheckDir: BiocVersion.Rcheck Warnings: 0