Package: BiocVersion Version: 3.18.1 Command: /Library/Frameworks/R.framework/Resources/bin/R CMD build --keep-empty-dirs --no-resave-data BiocVersion StartedAt: 2024-04-15 17:13:18 -0400 (Mon, 15 Apr 2024) EndedAt: 2024-04-15 17:13:19 -0400 (Mon, 15 Apr 2024) EllapsedTime: 1.0 seconds RetCode: 0 Status: OK PackageFile: BiocVersion_3.18.1.tar.gz PackageFileSize: 992 bytes