Package: BiocStyle Version: 2.30.0 Command: /Library/Frameworks/R.framework/Resources/bin/R CMD build --keep-empty-dirs --no-resave-data BiocStyle StartedAt: 2024-04-15 17:13:04 -0400 (Mon, 15 Apr 2024) EndedAt: 2024-04-15 17:13:34 -0400 (Mon, 15 Apr 2024) EllapsedTime: 30.4 seconds RetCode: 0 Status: OK PackageFile: BiocStyle_2.30.0.tar.gz PackageFileSize: 771.8 KiB