Package: BiocSklearn Version: 1.24.0 Command: chmod a+r BiocSklearn -R && F:\biocbuild\bbs-3.18-bioc\R\bin\R.exe CMD build --keep-empty-dirs --no-resave-data BiocSklearn StartedAt: 2024-04-15 17:13:42 -0400 (Mon, 15 Apr 2024) EndedAt: 2024-04-15 17:15:04 -0400 (Mon, 15 Apr 2024) EllapsedTime: 82.5 seconds RetCode: 0 Status: OK PackageFile: BiocSklearn_1.24.0.tar.gz PackageFileSize: 32.52 MiB